BEGIN:VCALENDAR
VERSION:2.0
PRODID:-//Dr. Mazin Noel - ECPv6.15.20//NONSGML v1.0//EN
CALSCALE:GREGORIAN
METHOD:PUBLISH
X-WR-CALNAME:Dr. Mazin Noel
X-ORIGINAL-URL:https://www.mazinnoel.com
X-WR-CALDESC:Events for Dr. Mazin Noel
REFRESH-INTERVAL;VALUE=DURATION:PT1H
X-Robots-Tag:noindex
X-PUBLISHED-TTL:PT1H
BEGIN:VTIMEZONE
TZID:Europe/Stockholm
BEGIN:DAYLIGHT
TZOFFSETFROM:+0100
TZOFFSETTO:+0200
TZNAME:CEST
DTSTART:20240331T010000
END:DAYLIGHT
BEGIN:STANDARD
TZOFFSETFROM:+0200
TZOFFSETTO:+0100
TZNAME:CET
DTSTART:20241027T010000
END:STANDARD
BEGIN:DAYLIGHT
TZOFFSETFROM:+0100
TZOFFSETTO:+0200
TZNAME:CEST
DTSTART:20250330T010000
END:DAYLIGHT
BEGIN:STANDARD
TZOFFSETFROM:+0200
TZOFFSETTO:+0100
TZNAME:CET
DTSTART:20251026T010000
END:STANDARD
BEGIN:DAYLIGHT
TZOFFSETFROM:+0100
TZOFFSETTO:+0200
TZNAME:CEST
DTSTART:20260329T010000
END:DAYLIGHT
BEGIN:STANDARD
TZOFFSETFROM:+0200
TZOFFSETTO:+0100
TZNAME:CET
DTSTART:20261025T010000
END:STANDARD
BEGIN:DAYLIGHT
TZOFFSETFROM:+0100
TZOFFSETTO:+0200
TZNAME:CEST
DTSTART:20270328T010000
END:DAYLIGHT
BEGIN:STANDARD
TZOFFSETFROM:+0200
TZOFFSETTO:+0100
TZNAME:CET
DTSTART:20271031T010000
END:STANDARD
END:VTIMEZONE
BEGIN:VEVENT
DTSTART;TZID=Europe/Stockholm:20260311T180000
DTEND;TZID=Europe/Stockholm:20260311T193000
DTSTAMP:20260418T160818
CREATED:20260223T055937Z
LAST-MODIFIED:20260223T055937Z
UID:39223-1773252000-1773257400@www.mazinnoel.com
SUMMARY:التربية
DESCRIPTION:كنيسة مار توما الرسول – Karlbergastigen 3 Södertälje
URL:https://www.mazinnoel.com/event/%d8%a7%d9%84%d8%aa%d8%b1%d8%a8%d9%8a%d8%a9/
END:VEVENT
BEGIN:VEVENT
DTSTART;TZID=Europe/Stockholm:20260306T180000
DTEND;TZID=Europe/Stockholm:20260306T193000
DTSTAMP:20260418T160818
CREATED:20260223T055745Z
LAST-MODIFIED:20260223T055745Z
UID:39221-1772820000-1772825400@www.mazinnoel.com
SUMMARY:dagens ungdomar
DESCRIPTION:Högdalens kyrkan
URL:https://www.mazinnoel.com/event/dagens-ungdomar/
END:VEVENT
BEGIN:VEVENT
DTSTART;TZID=Europe/Stockholm:20260226T193000
DTEND;TZID=Europe/Stockholm:20260226T210000
DTSTAMP:20260418T160818
CREATED:20260223T054828Z
LAST-MODIFIED:20260223T054828Z
UID:39219-1772134200-1772139600@www.mazinnoel.com
SUMMARY:العائلة
DESCRIPTION:كنيسة مارر اسيا للسريان الكاثوليك
URL:https://www.mazinnoel.com/event/%d8%a7%d9%84%d8%b9%d8%a7%d8%a6%d9%84%d8%a9/
END:VEVENT
BEGIN:VEVENT
DTSTART;TZID=Europe/Stockholm:20251212T183000
DTEND;TZID=Europe/Stockholm:20251212T210000
DTSTAMP:20260418T160818
CREATED:20251207T094248Z
LAST-MODIFIED:20251207T094248Z
UID:288-1765564200-1765573200@www.mazinnoel.com
SUMMARY:صلاة العائلة
DESCRIPTION:كنيسة مار يوسف للسريان الكاثوليك\nBiborgsgatan 2\nSödertälje
URL:https://www.mazinnoel.com/event/%d8%b5%d9%84%d8%a7%d8%a9-%d8%a7%d9%84%d8%b9%d8%a7%d8%a6%d9%84%d8%a9-2/
END:VEVENT
END:VCALENDAR